BEGIN:VCALENDAR
VERSION:2.0
PRODID:-//Juneau Audubon Society - ECPv6.15.20//NONSGML v1.0//EN
CALSCALE:GREGORIAN
METHOD:PUBLISH
X-WR-CALNAME:Juneau Audubon Society
X-ORIGINAL-URL:https://www.juneauaudubon.org
X-WR-CALDESC:Events for Juneau Audubon Society
REFRESH-INTERVAL;VALUE=DURATION:PT1H
X-Robots-Tag:noindex
X-PUBLISHED-TTL:PT1H
BEGIN:VTIMEZONE
TZID:America/Juneau
BEGIN:DAYLIGHT
TZOFFSETFROM:-0900
TZOFFSETTO:-0800
TZNAME:AKDT
DTSTART:20240310T110000
END:DAYLIGHT
BEGIN:STANDARD
TZOFFSETFROM:-0800
TZOFFSETTO:-0900
TZNAME:AKST
DTSTART:20241103T100000
END:STANDARD
BEGIN:DAYLIGHT
TZOFFSETFROM:-0900
TZOFFSETTO:-0800
TZNAME:AKDT
DTSTART:20250309T110000
END:DAYLIGHT
BEGIN:STANDARD
TZOFFSETFROM:-0800
TZOFFSETTO:-0900
TZNAME:AKST
DTSTART:20251102T100000
END:STANDARD
BEGIN:DAYLIGHT
TZOFFSETFROM:-0900
TZOFFSETTO:-0800
TZNAME:AKDT
DTSTART:20260308T110000
END:DAYLIGHT
BEGIN:STANDARD
TZOFFSETFROM:-0800
TZOFFSETTO:-0900
TZNAME:AKST
DTSTART:20261101T100000
END:STANDARD
END:VTIMEZONE
BEGIN:VEVENT
DTSTART;VALUE=DATE:20251011
DTEND;VALUE=DATE:20251012
DTSTAMP:20260423T215705
CREATED:20251007T214435Z
LAST-MODIFIED:20251007T214956Z
UID:1572-1760140800-1760227199@www.juneauaudubon.org
SUMMARY:October Big Day
DESCRIPTION:Wherever you are on 11 October\, take a few minutes to enjoy birds and share what you find on eBird. Participate from anywhere—even from home! Be a part of the global team and help set a new record for October birding. \nhttps://ebird.org/news/october-big-day-2025 \nFor more information\, contact: Brenda at-large_b@juneau-audubon-society.org
URL:https://www.juneauaudubon.org/event/october-big-day-oct-11-2025/
LOCATION:Anywhere you are!
CATEGORIES:Bird Count,Citizen Science
ATTACH;FMTTYPE=image/png:https://www.juneauaudubon.org/wp-content/uploads/2025/10/Stellars-Jay-Doug-Jones.png
END:VEVENT
END:VCALENDAR