BEGIN:VCALENDAR
VERSION:2.0
PRODID:-//Juneau Audubon Society - ECPv6.15.20//NONSGML v1.0//EN
CALSCALE:GREGORIAN
METHOD:PUBLISH
X-WR-CALNAME:Juneau Audubon Society
X-ORIGINAL-URL:https://www.juneauaudubon.org
X-WR-CALDESC:Events for Juneau Audubon Society
REFRESH-INTERVAL;VALUE=DURATION:PT1H
X-Robots-Tag:noindex
X-PUBLISHED-TTL:PT1H
BEGIN:VTIMEZONE
TZID:America/Juneau
BEGIN:DAYLIGHT
TZOFFSETFROM:-0900
TZOFFSETTO:-0800
TZNAME:AKDT
DTSTART:20250309T110000
END:DAYLIGHT
BEGIN:STANDARD
TZOFFSETFROM:-0800
TZOFFSETTO:-0900
TZNAME:AKST
DTSTART:20251102T100000
END:STANDARD
BEGIN:DAYLIGHT
TZOFFSETFROM:-0900
TZOFFSETTO:-0800
TZNAME:AKDT
DTSTART:20260308T110000
END:DAYLIGHT
BEGIN:STANDARD
TZOFFSETFROM:-0800
TZOFFSETTO:-0900
TZNAME:AKST
DTSTART:20261101T100000
END:STANDARD
BEGIN:DAYLIGHT
TZOFFSETFROM:-0900
TZOFFSETTO:-0800
TZNAME:AKDT
DTSTART:20270314T110000
END:DAYLIGHT
BEGIN:STANDARD
TZOFFSETFROM:-0800
TZOFFSETTO:-0900
TZNAME:AKST
DTSTART:20271107T100000
END:STANDARD
END:VTIMEZONE
BEGIN:VEVENT
DTSTART;VALUE=DATE:20260103
DTEND;VALUE=DATE:20260104
DTSTAMP:20260423T124319
CREATED:20251208T210501Z
LAST-MODIFIED:20251220T131329Z
UID:1647-1767398400-1767484799@www.juneauaudubon.org
SUMMARY:Christmas Bird Count
DESCRIPTION:NOTICE: The Juneau Christmas Bird Count has been re-scheduled due to extreme cold in the weekend forecast. The new date is Jan.3. \nJuneau will celebrate its 53rd Christmas Bird Count on Saturday\, December 20\, 2025 January 3\, 2026. An organizational email will go out to participants soon. New birders to the count are welcome! Experienced birders may be assigned to specific count areas\, and more casual birders may contribute as feeder counters. All should be on the lookout for unusual species that could contribute to the species tally.
URL:https://www.juneauaudubon.org/event/christmas-bird-count-2025/
LOCATION:Anywhere you are!
CATEGORIES:Bird Count
ATTACH;FMTTYPE=image/jpeg:https://www.juneauaudubon.org/wp-content/uploads/2025/12/Long-tailed_Duck_Auke_Bay_Gwen-Baluss.jpg
ORGANIZER;CN="Juneau Audubon Society":MAILTO:info@juneau-audubon-society.org
END:VEVENT
END:VCALENDAR