BEGIN:VCALENDAR
VERSION:2.0
PRODID:-//Juneau Audubon Society - ECPv6.15.20//NONSGML v1.0//EN
CALSCALE:GREGORIAN
METHOD:PUBLISH
X-ORIGINAL-URL:https://www.juneauaudubon.org
X-WR-CALDESC:Events for Juneau Audubon Society
REFRESH-INTERVAL;VALUE=DURATION:PT1H
X-Robots-Tag:noindex
X-PUBLISHED-TTL:PT1H
BEGIN:VTIMEZONE
TZID:America/Juneau
BEGIN:DAYLIGHT
TZOFFSETFROM:-0900
TZOFFSETTO:-0800
TZNAME:AKDT
DTSTART:20230312T110000
END:DAYLIGHT
BEGIN:STANDARD
TZOFFSETFROM:-0800
TZOFFSETTO:-0900
TZNAME:AKST
DTSTART:20231105T100000
END:STANDARD
BEGIN:DAYLIGHT
TZOFFSETFROM:-0900
TZOFFSETTO:-0800
TZNAME:AKDT
DTSTART:20240310T110000
END:DAYLIGHT
BEGIN:STANDARD
TZOFFSETFROM:-0800
TZOFFSETTO:-0900
TZNAME:AKST
DTSTART:20241103T100000
END:STANDARD
BEGIN:DAYLIGHT
TZOFFSETFROM:-0900
TZOFFSETTO:-0800
TZNAME:AKDT
DTSTART:20250309T110000
END:DAYLIGHT
BEGIN:STANDARD
TZOFFSETFROM:-0800
TZOFFSETTO:-0900
TZNAME:AKST
DTSTART:20251102T100000
END:STANDARD
END:VTIMEZONE
BEGIN:VEVENT
DTSTART;TZID=America/Juneau:20240420T080000
DTEND;TZID=America/Juneau:20240420T100000
DTSTAMP:20260423T190034
CREATED:20240403T030444Z
LAST-MODIFIED:20240403T181157Z
UID:1049-1713600000-1713607200@www.juneauaudubon.org
SUMMARY:Bird Walk #2
DESCRIPTION:Meet at the end of Industrial Boulevard at 8:00 a.m. Hike will proceed along the mostly level and gravel path with numerous muddy spots and occasional water crossings\, out to the mouth of the Mendenhall wetlands. This area attracts waterfowl\, shorebirds\, as well as songbirds and raptors in the meadows. One of the premiere birding hotspots in Juneau\, it also attracts dog walkers. Please leave your dog at home. Rubber boots are recommended. (Low tide 2.3’ at 6:11am) \nLocation: Mendenhall Wetlands State Game Refuge – Airport Dike Trail\nhttps://www.google.com/maps/place/Airport+Dike+Trailhead/@51.8240982\,-139.8219101\,5z/data=!4m10!1m2!2m1!1sAirport+Dike+trail!3m6!1s0x5493636abcdb14c1:0xd2c4a60c42f82135!8m2!3d46.1530454!4d-123.8642852!15sChJBaXJwb3J0IERpa2UgdHJhaWySAQtoaWtpbmdfYXJlYeABAA!16s%2Fg%2F11kpr5hs0h?entry=ttu \nJAS Contact: field-trips@juneau-audubon-society.org \nLeaders:  Scott Vulstek and Marsha Squires
URL:https://www.juneauaudubon.org/event/bird-walk-april-20-2024/
LOCATION:Mendenhall Wetlands State Game Refuge – west side of river (end of Industrial Blvd)\, 2181 Industrial Blvd\, Juneau\, AK\, 99801\, United States
CATEGORIES:Bird Walk
ATTACH;FMTTYPE=image/jpeg:https://www.juneauaudubon.org/wp-content/uploads/2024/04/2canada-geese-in-flight-2_1313775207.jpeg
ORGANIZER;CN="Juneau Audubon Society Field Trips":MAILTO:field-trips@juneau-audubon-society.org
END:VEVENT
BEGIN:VEVENT
DTSTART;TZID=America/Juneau:20240413T080000
DTEND;TZID=America/Juneau:20240413T100000
DTSTAMP:20260423T190034
CREATED:20240401T154954Z
LAST-MODIFIED:20240403T181115Z
UID:1028-1712995200-1713002400@www.juneauaudubon.org
SUMMARY:Bird Walk for Beginners
DESCRIPTION:The walk will begin in the Fish Creek parking lot at 8:00 a.m. The varied habitat of sedges and grasses\, shrubs\, alder\, willow\, and conifers along with the fresh creek water mixing with incoming salt water creates a unique and beautiful estuary. Spring migration can bring flocks of sea and dabbling ducks\, shorebirds\, gulls\, crows\, and early songbird migrants. The trail is a relatively flat mile from the parking lot to the peninsula point. (Low tide -0.6’ at 11:16 am) \nLocation: Fish Creek Mendenhall State Game Refuge\, North Douglas Highway \nLeaders: Marsha Squires and Owen Squires
URL:https://www.juneauaudubon.org/event/bird-walk-for-beginners-april-13-2024/
LOCATION:Fish Creek Mendenhall State Game Refuge\, North Douglas Highway\, Wetlands Refuge Rd\, Juneau\, AK 99801\, Juneau\, AK\, 99801\, United States
CATEGORIES:Bird Walk
ATTACH;FMTTYPE=image/jpeg:https://www.juneauaudubon.org/wp-content/uploads/2024/04/american-wigeon-male.jpg
ORGANIZER;CN="Juneau Audubon Society Field Trips":MAILTO:field-trips@juneau-audubon-society.org
END:VEVENT
END:VCALENDAR