BEGIN:VCALENDAR
VERSION:2.0
PRODID:-//Juneau Audubon Society - ECPv6.15.20//NONSGML v1.0//EN
CALSCALE:GREGORIAN
METHOD:PUBLISH
X-WR-CALNAME:Juneau Audubon Society
X-ORIGINAL-URL:https://www.juneauaudubon.org
X-WR-CALDESC:Events for Juneau Audubon Society
REFRESH-INTERVAL;VALUE=DURATION:PT1H
X-Robots-Tag:noindex
X-PUBLISHED-TTL:PT1H
BEGIN:VTIMEZONE
TZID:America/Juneau
BEGIN:DAYLIGHT
TZOFFSETFROM:-0900
TZOFFSETTO:-0800
TZNAME:AKDT
DTSTART:20210314T110000
END:DAYLIGHT
BEGIN:STANDARD
TZOFFSETFROM:-0800
TZOFFSETTO:-0900
TZNAME:AKST
DTSTART:20211107T100000
END:STANDARD
BEGIN:DAYLIGHT
TZOFFSETFROM:-0900
TZOFFSETTO:-0800
TZNAME:AKDT
DTSTART:20220313T110000
END:DAYLIGHT
BEGIN:STANDARD
TZOFFSETFROM:-0800
TZOFFSETTO:-0900
TZNAME:AKST
DTSTART:20221106T100000
END:STANDARD
BEGIN:DAYLIGHT
TZOFFSETFROM:-0900
TZOFFSETTO:-0800
TZNAME:AKDT
DTSTART:20230312T110000
END:DAYLIGHT
BEGIN:STANDARD
TZOFFSETFROM:-0800
TZOFFSETTO:-0900
TZNAME:AKST
DTSTART:20231105T100000
END:STANDARD
BEGIN:DAYLIGHT
TZOFFSETFROM:-0900
TZOFFSETTO:-0800
TZNAME:AKDT
DTSTART:20240310T110000
END:DAYLIGHT
BEGIN:STANDARD
TZOFFSETFROM:-0800
TZOFFSETTO:-0900
TZNAME:AKST
DTSTART:20241103T100000
END:STANDARD
BEGIN:DAYLIGHT
TZOFFSETFROM:-0900
TZOFFSETTO:-0800
TZNAME:AKDT
DTSTART:20250309T110000
END:DAYLIGHT
BEGIN:STANDARD
TZOFFSETFROM:-0800
TZOFFSETTO:-0900
TZNAME:AKST
DTSTART:20251102T100000
END:STANDARD
END:VTIMEZONE
BEGIN:VEVENT
DTSTART;TZID=America/Juneau:20240313T200000
DTEND;TZID=America/Juneau:20240313T213000
DTSTAMP:20260424T044140
CREATED:20240301T035903Z
LAST-MODIFIED:20240301T044109Z
UID:934-1710360000-1710365400@www.juneauaudubon.org
SUMMARY:Monthly Program: Public Screening: Flyways - 8pm
DESCRIPTION:Watch the Flyways movie to find out who this youngster is. \nMovie night at the Goldtown Nickelodeon! JAS will be showing Flyways: The untold journey of migratory shorebirds. This is a beautiful movie not to be missed\, featuring species that stop by our local wetlands as well as wetlands throughout the globe. We will have access to the full version\, with footage not seen on the version that will air on PBS Nature. \nThere will also be a 6:00pm showing. \n\n 
URL:https://www.juneauaudubon.org/event/monthly-program-public-screening-flyways-8pm-march-13-2024/
LOCATION:Gold Town Theater\, 171 Shattuck Way\, Suite 109\, Juneau\, AK\, 99801\, United States
CATEGORIES:Monthly Program
ATTACH;FMTTYPE=image/jpeg:https://www.juneauaudubon.org/wp-content/uploads/2024/02/flyways.jpeg
END:VEVENT
BEGIN:VEVENT
DTSTART;TZID=America/Juneau:20240313T180000
DTEND;TZID=America/Juneau:20240313T193000
DTSTAMP:20260424T044140
CREATED:20240301T035736Z
LAST-MODIFIED:20240301T044115Z
UID:922-1710352800-1710358200@www.juneauaudubon.org
SUMMARY:Monthly Program: Public Screening: Flyways - 6pm
DESCRIPTION:Watch the Flyways movie to find out who this youngster is. \nMovie night at the Goldtown Nickelodeon! JAS will be showing Flyways: The untold journey of migratory shorebirds. This is a beautiful movie not to be missed\, featuring species that stop by our local wetlands as well as wetlands throughout the globe. We will have access to the full version\, with footage not seen on the version that will air on PBS Nature. \nThere will also be a 8:00pm showing. \n  \n\n 
URL:https://www.juneauaudubon.org/event/monthly-program-public-screening-flyways-6pm-march-13-2024/
LOCATION:Gold Town Theater\, 171 Shattuck Way\, Suite 109\, Juneau\, AK\, 99801\, United States
CATEGORIES:Monthly Program
ATTACH;FMTTYPE=image/jpeg:https://www.juneauaudubon.org/wp-content/uploads/2024/02/flyways.jpeg
ORGANIZER;CN="Juneau Audubon Society":MAILTO:info@juneau-audubon-society.org
END:VEVENT
BEGIN:VEVENT
DTSTART;TZID=America/Juneau:20240226T180000
DTEND;TZID=America/Juneau:20240226T190000
DTSTAMP:20260424T044140
CREATED:20231023T024816Z
LAST-MODIFIED:20240301T034419Z
UID:577-1708970400-1708974000@www.juneauaudubon.org
SUMMARY:Board Meeting
DESCRIPTION:Board Meeting (Valley Library\, updated from Downtown)
URL:https://www.juneauaudubon.org/event/february-26-2024/
LOCATION:AK
CATEGORIES:Board Meeting
ORGANIZER;CN="Marsha Squires":MAILTO:president@juneau-audubon-society.org
END:VEVENT
BEGIN:VEVENT
DTSTART;VALUE=DATE:20240216
DTEND;VALUE=DATE:20240220
DTSTAMP:20260424T044140
CREATED:20231211T175944Z
LAST-MODIFIED:20240301T034353Z
UID:701-1708041600-1708387199@www.juneauaudubon.org
SUMMARY:Great Backyard Bird Count
DESCRIPTION:Great Backyard Bird Count \nDetails TBA.
URL:https://www.juneauaudubon.org/event/great-backyard-bird-count-feb-2024/
LOCATION:AK
CATEGORIES:Bird Count
END:VEVENT
BEGIN:VEVENT
DTSTART;TZID=America/Juneau:20240208T183000
DTEND;TZID=America/Juneau:20240208T193000
DTSTAMP:20260424T044140
CREATED:20231023T023954Z
LAST-MODIFIED:20240301T040412Z
UID:555-1707417000-1707420600@www.juneauaudubon.org
SUMMARY:Monthly Program: Marine mammal specialist Suzie Teerlink
DESCRIPTION:Come join us for an informative evening with Marine Mammal Specialist Suzie Teerlink!\nThis month’s program will be held Thursday\, February 8th at UAS!\nPlease note the room change to the Glacier View Room Egan 221. \nWe will be streaming the program live on our Facebook page: https://www.facebook.com/events/266792726432410/?active_tab=about \nJuneau Audubon Society is an independent non-profit organization\nfocused on birds\, education\, and conservation in the communities and surrounding areas of Southeast Alaska. \nWith the support of volunteers and partners\, we have connected individuals\nand groups of all ages and backgrounds to the beauty of nature through science-based learning. \nWe hope you have visited our new JAS website at www.juneauaudubon.org\, and be sure to check our JAS Events page HERE to find out about upcoming events and programs! \nWe are still “putting out the call” for folks to renew\nmemberships and/or join JAS for the 2024 calendar year.\nIt’s only $10 to support a great local conservation organization that provides field trips\, education\, bird walks\, and nature cruises! \nYou can print off our Membership Form HERE and mail it to us with a check\, or visit our website to join or renew online! Better yet\, you can go to www.audubon.org and your National  Audubon membership includes a membership in JAS membership just $30/year! \nNote that we do not share our membership lists with other organizations. \nThanks for your continued support of JAS – we look forward to hearing from you and seeing you at our events! 
URL:https://www.juneauaudubon.org/event/february-8-2024/
LOCATION:Glacier View Room Egan 221\, 11066 Auke Lake Way\, Juneau\, United States
CATEGORIES:Monthly Program
ATTACH;FMTTYPE=image/png:https://www.juneauaudubon.org/wp-content/uploads/2023/10/unnamed.png
ORGANIZER;CN="Marsha Squires":MAILTO:president@juneau-audubon-society.org
END:VEVENT
BEGIN:VEVENT
DTSTART;TZID=America/Juneau:20240122T180000
DTEND;TZID=America/Juneau:20240122T190000
DTSTAMP:20260424T044140
CREATED:20231023T024741Z
LAST-MODIFIED:20240301T034801Z
UID:574-1705946400-1705950000@www.juneauaudubon.org
SUMMARY:Board Meeting
DESCRIPTION:Board Meeting (Shifted to Zoom because of snow – was previously planned for the valley)
URL:https://www.juneauaudubon.org/event/january-22-2023/
LOCATION:AK
CATEGORIES:Board Meeting
ORGANIZER;CN="Marsha Squires":MAILTO:president@juneau-audubon-society.org
END:VEVENT
BEGIN:VEVENT
DTSTART;TZID=America/Juneau:20240111T183000
DTEND;TZID=America/Juneau:20240111T193000
DTSTAMP:20260424T044140
CREATED:20231023T023918Z
LAST-MODIFIED:20240102T172828Z
UID:552-1704997800-1705001400@www.juneauaudubon.org
SUMMARY:Monthly Program: Local photographer Jeremy Lavender
DESCRIPTION:Membership Program: Local photographer Jeremy Lavender \nProgram details TBA!
URL:https://www.juneauaudubon.org/event/january-11-2023/
LOCATION:UAS Lecture Hall (Egan Room 112)\, 11066 Auke Lake Way\, Juneau\, AK\, 99801\, United States
CATEGORIES:Monthly Program
ATTACH;FMTTYPE=image/png:https://www.juneauaudubon.org/wp-content/uploads/2023/10/Mostly-Winging-It.png
ORGANIZER;CN="Marsha Squires":MAILTO:president@juneau-audubon-society.org
END:VEVENT
BEGIN:VEVENT
DTSTART;TZID=America/Juneau:20231218T180000
DTEND;TZID=America/Juneau:20231218T190000
DTSTAMP:20260424T044140
CREATED:20231023T024656Z
LAST-MODIFIED:20231023T024656Z
UID:571-1702922400-1702926000@www.juneauaudubon.org
SUMMARY:Board Meeting
DESCRIPTION:Board Meeting (Downtown)
URL:https://www.juneauaudubon.org/event/december-18-2023/
LOCATION:AK
CATEGORIES:Board Meeting
ORGANIZER;CN="Marsha Squires":MAILTO:president@juneau-audubon-society.org
END:VEVENT
BEGIN:VEVENT
DTSTART;VALUE=DATE:20231216
DTEND;VALUE=DATE:20231217
DTSTAMP:20260424T044140
CREATED:20231102T044258Z
LAST-MODIFIED:20231211T174902Z
UID:594-1702684800-1702771199@www.juneauaudubon.org
SUMMARY:Christmas Bird Count
DESCRIPTION:The 2023 Juneau Christmas Bird Count will take place on Saturday\, December 16\, 2023. The Christmas Bird Count is a national citizen science event sponsored by the National Audubon Society. This year’s count is the 124th national count and 51st Juneau count. To learn more about the Christmas Bird Count\, visit the National Audubon Society website at https://www.audubon.org/conservation/science/christmas-bird-count . \nAn organizational email message will go out to past volunteers in November. If you are new to the Juneau count and would like to participate as a field volunteer or feeder watcher\, or if you have questions\, please contact Patty Rose at\np_rose_raven@yahoo.com.
URL:https://www.juneauaudubon.org/event/christmas-bird-count/
LOCATION:AK
CATEGORIES:Bird Count
ATTACH;FMTTYPE=image/webp:https://www.juneauaudubon.org/wp-content/uploads/2023/11/cbc2015_camilla_cerea_-1.webp
END:VEVENT
BEGIN:VEVENT
DTSTART;VALUE=DATE:20231214
DTEND;VALUE=DATE:20231215
DTSTAMP:20260424T044140
CREATED:20231113T010446Z
LAST-MODIFIED:20231113T012046Z
UID:638-1702512000-1702598399@www.juneauaudubon.org
SUMMARY:Uncharted: Field Science and Storytelling about Disabilities in STEM with Skylar Bayer
DESCRIPTION:“Uncharted: Field Science and Storytelling about Disabilities in STEM” is an upcoming event featuring Skylar Bayer that aims to explore the experiences and achievements of disabled scientists in the field of science. This event will showcase the unique perspectives and contributions of disabled scientists and storytellers and will provide insights into the challenges they face in STEM. The event promises to be an inspiring and informative experience\, with engaging discussions\, storytelling sessions\, and field science demonstrations designed to provide valuable insights into the world of science and the experiences of scientists with disabilities. Join Skylar Bayer and other prominent voices in the scientific community for a memorable event that celebrates diversity\, inclusivity\, and the power of storytelling in STEM.
URL:https://www.juneauaudubon.org/event/uncharted-field-science-and-storytelling-about-disabilities-in-stem-with-skylar-bayer/
LOCATION:AK
CATEGORIES:Talk
ATTACH;FMTTYPE=image/jpeg:https://www.juneauaudubon.org/wp-content/uploads/2023/11/IMG_8745-scaled.jpg
END:VEVENT
BEGIN:VEVENT
DTSTART;TZID=America/Juneau:20231127T180000
DTEND;TZID=America/Juneau:20231127T190000
DTSTAMP:20260424T044140
CREATED:20231023T024226Z
LAST-MODIFIED:20231023T024442Z
UID:561-1701108000-1701111600@www.juneauaudubon.org
SUMMARY:Board Meeting
DESCRIPTION:Board Meeting (Valley)
URL:https://www.juneauaudubon.org/event/november-27-2023/
LOCATION:AK
CATEGORIES:Board Meeting
ORGANIZER;CN="Marsha Squires":MAILTO:president@juneau-audubon-society.org
END:VEVENT
BEGIN:VEVENT
DTSTART;VALUE=DATE:20231124
DTEND;VALUE=DATE:20231127
DTSTAMP:20260424T044140
CREATED:20231023T021136Z
LAST-MODIFIED:20231023T153623Z
UID:536-1700784000-1701043199@www.juneauaudubon.org
SUMMARY:Public Market Weekend
DESCRIPTION:Join the Juneau Audubon Society’s passionate group of enthusiasts as they flock to Centennial Hall for the annual Public Market. Our dedicated community of nature lovers will be showcasing how you too can become involved\, what conservation practices you can implement and be a part of\, and ways to learn more about the breathtaking beauty and diversity of avian life. From the majestic Snowy Owl to the acrobatic Tree Swallow\, their informative displays and engaging conversation will have you marveling at the wonders of Southeast Alaska. Discover the joy of birdwatching and the importance of preserving Alaska’s natural habitats. Don’t miss this opportunity to connect with the Juneau Audubon Society in the capital of the Last Frontier! \nThis year’s Public Market vendors open at noon Friday\, closing at 7 p.m and Saturday & Sunday will be available from 10 a.m. until 5 p.m. \nFind more information about the Juneau Public Market at https://www.juneaupublicmarket.com/.
URL:https://www.juneauaudubon.org/event/public-market-weekend-2023/
LOCATION:Centennial Hall Convention Center\, 101 Egan Dr\, Juneau\, AK\, 99801\, United States
ATTACH;FMTTYPE=image/jpeg:https://www.juneauaudubon.org/wp-content/uploads/2023/10/public-market-backdrop.jpeg
ORGANIZER;CN="Marsha Squires":MAILTO:president@juneau-audubon-society.org
END:VEVENT
BEGIN:VEVENT
DTSTART;TZID=America/Juneau:20231109T183000
DTEND;TZID=America/Juneau:20231109T193000
DTSTAMP:20260424T044140
CREATED:20231018T011515Z
LAST-MODIFIED:20231023T024849Z
UID:496-1699554600-1699558200@www.juneauaudubon.org
SUMMARY:Monthly Program: Bats in Winter with Karen Blejwas
DESCRIPTION:November’s Membership Program is “Bats in Winter” with Karen Blejwas . Karen will focus on the winter ecology of Western little brown bats which have a very different hibernation strategy than their eastern counterparts.  She will provide an overview of where they are found hibernating in the Juneau area\, describe how that differs from where they hibernate in the East\, and discuss the implications for other aspects of their ecology\, as well as for the spread and severity of white-nose syndrome (WNS)\, a devastating fungal disease that attacks hibernating bats.
URL:https://www.juneauaudubon.org/event/bats-in-winter-with-karen-blejwas/
LOCATION:UAS Auditorium\, 11066 Auke Lake Way\, Juneau\, AK\, United States
CATEGORIES:Monthly Program
ATTACH;FMTTYPE=image/jpeg:https://www.juneauaudubon.org/wp-content/uploads/2023/10/2011-10-05_FishCreek_P10108172011-10-05_FishCreek_L1040653_capture_Karen_radiotagging-scaled.jpg
END:VEVENT
BEGIN:VEVENT
DTSTART;TZID=America/Juneau:20231023T180000
DTEND;TZID=America/Juneau:20231023T190000
DTSTAMP:20260424T044140
CREATED:20231023T024140Z
LAST-MODIFIED:20231023T024234Z
UID:558-1698084000-1698087600@www.juneauaudubon.org
SUMMARY:Board Meeting
DESCRIPTION:Board Meeting (Downtown)
URL:https://www.juneauaudubon.org/event/october-23-2023/
LOCATION:AK
CATEGORIES:Board Meeting
ORGANIZER;CN="Marsha Squires":MAILTO:president@juneau-audubon-society.org
END:VEVENT
BEGIN:VEVENT
DTSTART;TZID=America/Juneau:20231012T183000
DTEND;TZID=America/Juneau:20231012T193000
DTSTAMP:20260424T044140
CREATED:20230907T162223Z
LAST-MODIFIED:20231023T023433Z
UID:398-1697135400-1697139000@www.juneauaudubon.org
SUMMARY:Monthly Program: The Plight of the Penguin
DESCRIPTION:Oct 12: \nMembership Meeting; Election of Officers \nProgram: The Plight of the Penguin Presented by Tyler Stow in the UAS Egan Lecture Hall
URL:https://www.juneauaudubon.org/event/october-12-2023/
LOCATION:UAS Lecture Hall (Egan Room 112)\, 11066 Auke Lake Way\, Juneau\, AK\, 99801\, United States
CATEGORIES:Monthly Program
ORGANIZER;CN="Marsha Squires":MAILTO:president@juneau-audubon-society.org
END:VEVENT
BEGIN:VEVENT
DTSTART;VALUE=DATE:20230927
DTEND;VALUE=DATE:20231028
DTSTAMP:20260424T044140
CREATED:20231019T083921Z
LAST-MODIFIED:20231019T083921Z
UID:519-1695772800-1698451199@www.juneauaudubon.org
SUMMARY:Admiralty Island Greens Creek Mine Comment Period Opens
DESCRIPTION:The Admiralty Island National Monument is seeking comments on the proposed Hecla Greens Creek Mining Company (HGCMC) Surface Exploration 2024-2028 project\, which proposes to extend HGCMC’s surface exploration authorization by five years\, and incorporate new areas of interest\, near their Greens Creek Mine. \nTo review the proposed action\, see the “Proposal” folder on the project webpage. This includes a table describing changes from the existing authorization. To view prior analysis for the existing authorization\, see the “Scoping” folder on the project webpage. \nA legal notice was published in the Juneau Empire on September 27\, 2023. Comments will be accepted within 30 days of the publication date. The legal notice is also attached to this message and on the project webpage “Scoping” folder and contains additional important information regarding the comment process. \nPlease submit your comments for the Responsible Officials through the project’s comment database at https://cara.fs2c.usda.gov/Public//CommentInput?Project=64682. Comments will help the project interdisciplinary team identify concerns\, questions\, and information needs related to the Proposed Action. When writing comments\, explain why you have a concern or a suggestion.
URL:https://www.juneauaudubon.org/event/admiralty-island-greens-creek-mine-comment-period-opens/
LOCATION:AK
CATEGORIES:Online
ATTACH;FMTTYPE=image/png:https://www.juneauaudubon.org/wp-content/uploads/2023/10/Screenshot-2023-10-19-at-4.31.01 PM.png
END:VEVENT
BEGIN:VEVENT
DTSTART;TZID=America/Juneau:20230812T100000
DTEND;TZID=America/Juneau:20230812T120000
DTSTAMP:20260424T044140
CREATED:20230803T061424Z
LAST-MODIFIED:20230803T061507Z
UID:297-1691834400-1691841600@www.juneauaudubon.org
SUMMARY:Saturday Wild - Mushroom Identification with Dave Gregovich
DESCRIPTION:Meet at the parking lot at the end of River Road (north end of Brotherhood Bridge trail). \nDress for the weather!\nFor more information on free community walks\, sponsored by the Juneau Audubon Society\, email   at-large_B@juneau-audubon-society.org or call 907-321-4739
URL:https://www.juneauaudubon.org/event/saturday-wild-mushroom-identification-with-dave-gregovich/
LOCATION:AK
CATEGORIES:Saturday Wild
ATTACH;FMTTYPE=image/jpeg:https://www.juneauaudubon.org/wp-content/uploads/2023/08/mushroom-walk-0812.jpg
END:VEVENT
BEGIN:VEVENT
DTSTART;TZID=America/Juneau:20230805T083000
DTEND;TZID=America/Juneau:20230805T170000
DTSTAMP:20260424T044140
CREATED:20230803T061139Z
LAST-MODIFIED:20230803T061139Z
UID:293-1691224200-1691254800@www.juneauaudubon.org
SUMMARY:Saturday Wild - Mt. Roberts Tram and Mt. Roberts Hike
DESCRIPTION:Meet at the Tram at 8:30 am \nRain or Shine! ($10.50/person-cash please) Thanks to Mt. Roberts Tram for the reduced rate! \nReserve a spot! Call 907-321-4739 or at-large_b@juneau-aububon-society.org
URL:https://www.juneauaudubon.org/event/saturday-wild-mt-roberts-tram-and-mt-roberts-hike/
LOCATION:AK
CATEGORIES:Saturday Wild
ATTACH;FMTTYPE=image/jpeg:https://www.juneauaudubon.org/wp-content/uploads/2023/08/SaturdayWild-pic-1.jpg
END:VEVENT
BEGIN:VEVENT
DTSTART;VALUE=DATE:20220826
DTEND;VALUE=DATE:20220827
DTSTAMP:20260424T044140
CREATED:20230803T063136Z
LAST-MODIFIED:20230803T063136Z
UID:322-1661472000-1661558399@www.juneauaudubon.org
SUMMARY:JAS Membership Potluck Barbecue
DESCRIPTION:
URL:https://www.juneauaudubon.org/event/jas-membership-potluck-barbecue/
LOCATION:AK
CATEGORIES:Potluck
ATTACH;FMTTYPE=image/jpeg:https://www.juneauaudubon.org/wp-content/uploads/2023/08/JAS-Picnic-2022-IMG_5775.jpg
END:VEVENT
END:VCALENDAR