BEGIN:VCALENDAR
VERSION:2.0
PRODID:-//Juneau Audubon Society - ECPv6.15.20//NONSGML v1.0//EN
CALSCALE:GREGORIAN
METHOD:PUBLISH
X-WR-CALNAME:Juneau Audubon Society
X-ORIGINAL-URL:https://www.juneauaudubon.org
X-WR-CALDESC:Events for Juneau Audubon Society
REFRESH-INTERVAL;VALUE=DURATION:PT1H
X-Robots-Tag:noindex
X-PUBLISHED-TTL:PT1H
BEGIN:VTIMEZONE
TZID:America/Juneau
BEGIN:DAYLIGHT
TZOFFSETFROM:-0900
TZOFFSETTO:-0800
TZNAME:AKDT
DTSTART:20210314T110000
END:DAYLIGHT
BEGIN:STANDARD
TZOFFSETFROM:-0800
TZOFFSETTO:-0900
TZNAME:AKST
DTSTART:20211107T100000
END:STANDARD
BEGIN:DAYLIGHT
TZOFFSETFROM:-0900
TZOFFSETTO:-0800
TZNAME:AKDT
DTSTART:20220313T110000
END:DAYLIGHT
BEGIN:STANDARD
TZOFFSETFROM:-0800
TZOFFSETTO:-0900
TZNAME:AKST
DTSTART:20221106T100000
END:STANDARD
BEGIN:DAYLIGHT
TZOFFSETFROM:-0900
TZOFFSETTO:-0800
TZNAME:AKDT
DTSTART:20230312T110000
END:DAYLIGHT
BEGIN:STANDARD
TZOFFSETFROM:-0800
TZOFFSETTO:-0900
TZNAME:AKST
DTSTART:20231105T100000
END:STANDARD
BEGIN:DAYLIGHT
TZOFFSETFROM:-0900
TZOFFSETTO:-0800
TZNAME:AKDT
DTSTART:20240310T110000
END:DAYLIGHT
BEGIN:STANDARD
TZOFFSETFROM:-0800
TZOFFSETTO:-0900
TZNAME:AKST
DTSTART:20241103T100000
END:STANDARD
END:VTIMEZONE
BEGIN:VEVENT
DTSTART;TZID=America/Juneau:20231012T183000
DTEND;TZID=America/Juneau:20231012T193000
DTSTAMP:20260424T140707
CREATED:20230907T162223Z
LAST-MODIFIED:20231023T023433Z
UID:398-1697135400-1697139000@www.juneauaudubon.org
SUMMARY:Monthly Program: The Plight of the Penguin
DESCRIPTION:Oct 12: \nMembership Meeting; Election of Officers \nProgram: The Plight of the Penguin Presented by Tyler Stow in the UAS Egan Lecture Hall
URL:https://www.juneauaudubon.org/event/october-12-2023/
LOCATION:UAS Lecture Hall (Egan Room 112)\, 11066 Auke Lake Way\, Juneau\, AK\, 99801\, United States
CATEGORIES:Monthly Program
ORGANIZER;CN="Marsha Squires":MAILTO:president@juneau-audubon-society.org
END:VEVENT
BEGIN:VEVENT
DTSTART;VALUE=DATE:20230927
DTEND;VALUE=DATE:20231028
DTSTAMP:20260424T140707
CREATED:20231019T083921Z
LAST-MODIFIED:20231019T083921Z
UID:519-1695772800-1698451199@www.juneauaudubon.org
SUMMARY:Admiralty Island Greens Creek Mine Comment Period Opens
DESCRIPTION:The Admiralty Island National Monument is seeking comments on the proposed Hecla Greens Creek Mining Company (HGCMC) Surface Exploration 2024-2028 project\, which proposes to extend HGCMC’s surface exploration authorization by five years\, and incorporate new areas of interest\, near their Greens Creek Mine. \nTo review the proposed action\, see the “Proposal” folder on the project webpage. This includes a table describing changes from the existing authorization. To view prior analysis for the existing authorization\, see the “Scoping” folder on the project webpage. \nA legal notice was published in the Juneau Empire on September 27\, 2023. Comments will be accepted within 30 days of the publication date. The legal notice is also attached to this message and on the project webpage “Scoping” folder and contains additional important information regarding the comment process. \nPlease submit your comments for the Responsible Officials through the project’s comment database at https://cara.fs2c.usda.gov/Public//CommentInput?Project=64682. Comments will help the project interdisciplinary team identify concerns\, questions\, and information needs related to the Proposed Action. When writing comments\, explain why you have a concern or a suggestion.
URL:https://www.juneauaudubon.org/event/admiralty-island-greens-creek-mine-comment-period-opens/
CATEGORIES:Online
ATTACH;FMTTYPE=image/png:https://www.juneauaudubon.org/wp-content/uploads/2023/10/Screenshot-2023-10-19-at-4.31.01 PM.png
END:VEVENT
BEGIN:VEVENT
DTSTART;TZID=America/Juneau:20230812T100000
DTEND;TZID=America/Juneau:20230812T120000
DTSTAMP:20260424T140707
CREATED:20230803T061424Z
LAST-MODIFIED:20230803T061507Z
UID:297-1691834400-1691841600@www.juneauaudubon.org
SUMMARY:Saturday Wild - Mushroom Identification with Dave Gregovich
DESCRIPTION:Meet at the parking lot at the end of River Road (north end of Brotherhood Bridge trail). \nDress for the weather!\nFor more information on free community walks\, sponsored by the Juneau Audubon Society\, email   at-large_B@juneau-audubon-society.org or call 907-321-4739
URL:https://www.juneauaudubon.org/event/saturday-wild-mushroom-identification-with-dave-gregovich/
CATEGORIES:Saturday Wild
ATTACH;FMTTYPE=image/jpeg:https://www.juneauaudubon.org/wp-content/uploads/2023/08/mushroom-walk-0812.jpg
END:VEVENT
BEGIN:VEVENT
DTSTART;TZID=America/Juneau:20230805T083000
DTEND;TZID=America/Juneau:20230805T170000
DTSTAMP:20260424T140707
CREATED:20230803T061139Z
LAST-MODIFIED:20230803T061139Z
UID:293-1691224200-1691254800@www.juneauaudubon.org
SUMMARY:Saturday Wild - Mt. Roberts Tram and Mt. Roberts Hike
DESCRIPTION:Meet at the Tram at 8:30 am \nRain or Shine! ($10.50/person-cash please) Thanks to Mt. Roberts Tram for the reduced rate! \nReserve a spot! Call 907-321-4739 or at-large_b@juneau-aububon-society.org
URL:https://www.juneauaudubon.org/event/saturday-wild-mt-roberts-tram-and-mt-roberts-hike/
CATEGORIES:Saturday Wild
ATTACH;FMTTYPE=image/jpeg:https://www.juneauaudubon.org/wp-content/uploads/2023/08/SaturdayWild-pic-1.jpg
END:VEVENT
BEGIN:VEVENT
DTSTART;VALUE=DATE:20220826
DTEND;VALUE=DATE:20220827
DTSTAMP:20260424T140707
CREATED:20230803T063136Z
LAST-MODIFIED:20230803T063136Z
UID:322-1661472000-1661558399@www.juneauaudubon.org
SUMMARY:JAS Membership Potluck Barbecue
DESCRIPTION:
URL:https://www.juneauaudubon.org/event/jas-membership-potluck-barbecue/
CATEGORIES:Potluck
ATTACH;FMTTYPE=image/jpeg:https://www.juneauaudubon.org/wp-content/uploads/2023/08/JAS-Picnic-2022-IMG_5775.jpg
END:VEVENT
END:VCALENDAR