BEGIN:VCALENDAR
VERSION:2.0
PRODID:-//Juneau Audubon Society - ECPv6.15.20//NONSGML v1.0//EN
CALSCALE:GREGORIAN
METHOD:PUBLISH
X-ORIGINAL-URL:https://www.juneauaudubon.org
X-WR-CALDESC:Events for Juneau Audubon Society
REFRESH-INTERVAL;VALUE=DURATION:PT1H
X-Robots-Tag:noindex
X-PUBLISHED-TTL:PT1H
BEGIN:VTIMEZONE
TZID:America/Juneau
BEGIN:DAYLIGHT
TZOFFSETFROM:-0900
TZOFFSETTO:-0800
TZNAME:AKDT
DTSTART:20240310T110000
END:DAYLIGHT
BEGIN:STANDARD
TZOFFSETFROM:-0800
TZOFFSETTO:-0900
TZNAME:AKST
DTSTART:20241103T100000
END:STANDARD
BEGIN:DAYLIGHT
TZOFFSETFROM:-0900
TZOFFSETTO:-0800
TZNAME:AKDT
DTSTART:20250309T110000
END:DAYLIGHT
BEGIN:STANDARD
TZOFFSETFROM:-0800
TZOFFSETTO:-0900
TZNAME:AKST
DTSTART:20251102T100000
END:STANDARD
BEGIN:DAYLIGHT
TZOFFSETFROM:-0900
TZOFFSETTO:-0800
TZNAME:AKDT
DTSTART:20260308T110000
END:DAYLIGHT
BEGIN:STANDARD
TZOFFSETFROM:-0800
TZOFFSETTO:-0900
TZNAME:AKST
DTSTART:20261101T100000
END:STANDARD
END:VTIMEZONE
BEGIN:VEVENT
DTSTART;TZID=America/Juneau:20251211T183000
DTEND;TZID=America/Juneau:20251211T200000
DTSTAMP:20260423T124512
CREATED:20251111T023755Z
LAST-MODIFIED:20251111T025737Z
UID:1615-1765477800-1765483200@www.juneauaudubon.org
SUMMARY:Photos from Antarctica & the Stories behind the Scenes by Sean Neilson
DESCRIPTION:Juneau Audubon Society presents:\nPhotos from Antarctica & the Stories behind the Scenes by Sean Neilson\nDecember 11th at 6:30pm\nUAS Egan Lecture Hall Room 112\nFree & open to the public \nprograms@juneau-audubon-society.org
URL:https://www.juneauaudubon.org/event/photos-from-antarctica-dec-11-2025/
LOCATION:UAS Lecture Hall (Egan Room 112)\, 11066 Auke Lake Way\, Juneau\, AK\, 99801\, United States
CATEGORIES:Monthly Program
ATTACH;FMTTYPE=image/jpeg:https://www.juneauaudubon.org/wp-content/uploads/2025/11/antarctica_sean.jpg
ORGANIZER;CN="Juneau Audubon Society":MAILTO:info@juneau-audubon-society.org
END:VEVENT
END:VCALENDAR