BEGIN:VCALENDAR
VERSION:2.0
PRODID:-//Juneau Audubon Society - ECPv6.15.20//NONSGML v1.0//EN
CALSCALE:GREGORIAN
METHOD:PUBLISH
X-ORIGINAL-URL:https://www.juneauaudubon.org
X-WR-CALDESC:Events for Juneau Audubon Society
REFRESH-INTERVAL;VALUE=DURATION:PT1H
X-Robots-Tag:noindex
X-PUBLISHED-TTL:PT1H
BEGIN:VTIMEZONE
TZID:America/Juneau
BEGIN:DAYLIGHT
TZOFFSETFROM:-0900
TZOFFSETTO:-0800
TZNAME:AKDT
DTSTART:20250309T110000
END:DAYLIGHT
BEGIN:STANDARD
TZOFFSETFROM:-0800
TZOFFSETTO:-0900
TZNAME:AKST
DTSTART:20251102T100000
END:STANDARD
BEGIN:DAYLIGHT
TZOFFSETFROM:-0900
TZOFFSETTO:-0800
TZNAME:AKDT
DTSTART:20260308T110000
END:DAYLIGHT
BEGIN:STANDARD
TZOFFSETFROM:-0800
TZOFFSETTO:-0900
TZNAME:AKST
DTSTART:20261101T100000
END:STANDARD
BEGIN:DAYLIGHT
TZOFFSETFROM:-0900
TZOFFSETTO:-0800
TZNAME:AKDT
DTSTART:20270314T110000
END:DAYLIGHT
BEGIN:STANDARD
TZOFFSETFROM:-0800
TZOFFSETTO:-0900
TZNAME:AKST
DTSTART:20271107T100000
END:STANDARD
END:VTIMEZONE
BEGIN:VEVENT
DTSTART;TZID=America/Juneau:20260516T080000
DTEND;TZID=America/Juneau:20260516T100000
DTSTAMP:20260423T154631
CREATED:20260409T012453Z
LAST-MODIFIED:20260409T020118Z
UID:1738-1778918400-1778925600@www.juneauaudubon.org
SUMMARY:Airport Dike Trail (EVAR) Bird Walk
DESCRIPTION:Free & open to the public guided bird walks.  Juneau Audubon provides binoculars! \nLocation: Airport Dike Trail (EVAR) \nLeader: Detlef B.
URL:https://www.juneauaudubon.org/event/airport-dike-trail-evar-bird-walk-may-16-2026/
LOCATION:Mendenhall Wetlands State Game Refuge – Airport Dike Trail\, Airport Dike Trail\, Juneau\, AK\, 99801\, United States
CATEGORIES:Bird Walk
ATTACH;FMTTYPE=image/jpeg:https://www.juneauaudubon.org/wp-content/uploads/2026/04/usfws-savannah-sparrow-perches-fall-vegetation-large.jpeg
ORGANIZER;CN="Juneau Audubon Society Field Trips":MAILTO:field-trips@juneau-audubon-society.org
END:VEVENT
END:VCALENDAR