BEGIN:VCALENDAR
VERSION:2.0
PRODID:-//Juneau Audubon Society - ECPv6.15.20//NONSGML v1.0//EN
CALSCALE:GREGORIAN
METHOD:PUBLISH
X-ORIGINAL-URL:https://www.juneauaudubon.org
X-WR-CALDESC:Events for Juneau Audubon Society
REFRESH-INTERVAL;VALUE=DURATION:PT1H
X-Robots-Tag:noindex
X-PUBLISHED-TTL:PT1H
BEGIN:VTIMEZONE
TZID:America/Juneau
BEGIN:DAYLIGHT
TZOFFSETFROM:-0900
TZOFFSETTO:-0800
TZNAME:AKDT
DTSTART:20250309T110000
END:DAYLIGHT
BEGIN:STANDARD
TZOFFSETFROM:-0800
TZOFFSETTO:-0900
TZNAME:AKST
DTSTART:20251102T100000
END:STANDARD
BEGIN:DAYLIGHT
TZOFFSETFROM:-0900
TZOFFSETTO:-0800
TZNAME:AKDT
DTSTART:20260308T110000
END:DAYLIGHT
BEGIN:STANDARD
TZOFFSETFROM:-0800
TZOFFSETTO:-0900
TZNAME:AKST
DTSTART:20261101T100000
END:STANDARD
BEGIN:DAYLIGHT
TZOFFSETFROM:-0900
TZOFFSETTO:-0800
TZNAME:AKDT
DTSTART:20270314T110000
END:DAYLIGHT
BEGIN:STANDARD
TZOFFSETFROM:-0800
TZOFFSETTO:-0900
TZNAME:AKST
DTSTART:20271107T100000
END:STANDARD
END:VTIMEZONE
BEGIN:VEVENT
DTSTART;TZID=America/Juneau:20260502T080000
DTEND;TZID=America/Juneau:20260502T130000
DTSTAMP:20260423T111807
CREATED:20260409T022417Z
LAST-MODIFIED:20260409T022534Z
UID:1805-1777708800-1777726800@www.juneauaudubon.org
SUMMARY:Berners Bay Cruise - No. 2
DESCRIPTION:When? April 18\, 2026! \nJoin us for a 4-hour cruise to visit Berners Bay\, north of Juneau. The Allen Marine boat will be boarding at 8am & depart at 830am. Tickets are available from the JAHC https://www.jahc.org/box-office/. \nTickets are available for adults\, students & children. \nJuneau Audubon Society members will be on board as natural history interpreters. \n\nIf May 2 doesn’t work for your schedule\, the first of the cruises will be on April 18th\, 2026.
URL:https://www.juneauaudubon.org/event/berners-bay-cruise-no-2-may-2-2026/
LOCATION:Berner’s Bay!\, 58°44′38″N 134°58′16″W
CATEGORIES:Monthly Program
ATTACH;FMTTYPE=image/png:https://www.juneauaudubon.org/wp-content/uploads/2026/04/Screenshot-2026-04-08-at-10.19.15-PM.png
ORGANIZER;CN="Juneau Audubon Society Field Trips":MAILTO:field-trips@juneau-audubon-society.org
END:VEVENT
END:VCALENDAR