BEGIN:VCALENDAR
VERSION:2.0
PRODID:-//Juneau Audubon Society - ECPv6.15.20//NONSGML v1.0//EN
CALSCALE:GREGORIAN
METHOD:PUBLISH
X-WR-CALNAME:Juneau Audubon Society
X-ORIGINAL-URL:https://www.juneauaudubon.org
X-WR-CALDESC:Events for Juneau Audubon Society
REFRESH-INTERVAL;VALUE=DURATION:PT1H
X-Robots-Tag:noindex
X-PUBLISHED-TTL:PT1H
BEGIN:VTIMEZONE
TZID:America/Juneau
BEGIN:DAYLIGHT
TZOFFSETFROM:-0900
TZOFFSETTO:-0800
TZNAME:AKDT
DTSTART:20250309T110000
END:DAYLIGHT
BEGIN:STANDARD
TZOFFSETFROM:-0800
TZOFFSETTO:-0900
TZNAME:AKST
DTSTART:20251102T100000
END:STANDARD
BEGIN:DAYLIGHT
TZOFFSETFROM:-0900
TZOFFSETTO:-0800
TZNAME:AKDT
DTSTART:20260308T110000
END:DAYLIGHT
BEGIN:STANDARD
TZOFFSETFROM:-0800
TZOFFSETTO:-0900
TZNAME:AKST
DTSTART:20261101T100000
END:STANDARD
BEGIN:DAYLIGHT
TZOFFSETFROM:-0900
TZOFFSETTO:-0800
TZNAME:AKDT
DTSTART:20270314T110000
END:DAYLIGHT
BEGIN:STANDARD
TZOFFSETFROM:-0800
TZOFFSETTO:-0900
TZNAME:AKST
DTSTART:20271107T100000
END:STANDARD
END:VTIMEZONE
BEGIN:VEVENT
DTSTART;TZID=America/Juneau:20260523T080000
DTEND;TZID=America/Juneau:20260523T100000
DTSTAMP:20260423T124413
CREATED:20260409T012850Z
LAST-MODIFIED:20260409T020456Z
UID:1742-1779523200-1779530400@www.juneauaudubon.org
SUMMARY:Eagle Beach State Recreation Area Bird Walk
DESCRIPTION:Free & open to the public guided bird walks.  Juneau Audubon provides binoculars! \nLocation: Eagle Beach State Recreation Area \nLeaders: Detlef B. & Kari M.
URL:https://www.juneauaudubon.org/event/eagle-beach-state-recreation-area-bird-walk-may-23-2026/
LOCATION:Eagle Beach State Recreation Area\, 28955 Glacier Hwy\, Juneau\, AK\, 99801\, United States
CATEGORIES:Bird Walk
ATTACH;FMTTYPE=image/jpeg:https://www.juneauaudubon.org/wp-content/uploads/2026/04/usfws-black-oystercatcher-large.jpeg
ORGANIZER;CN="Juneau Audubon Society Field Trips":MAILTO:field-trips@juneau-audubon-society.org
END:VEVENT
END:VCALENDAR