BEGIN:VCALENDAR
VERSION:2.0
PRODID:-//Juneau Audubon Society - ECPv6.15.20//NONSGML v1.0//EN
CALSCALE:GREGORIAN
METHOD:PUBLISH
X-ORIGINAL-URL:https://www.juneauaudubon.org
X-WR-CALDESC:Events for Juneau Audubon Society
REFRESH-INTERVAL;VALUE=DURATION:PT1H
X-Robots-Tag:noindex
X-PUBLISHED-TTL:PT1H
BEGIN:VTIMEZONE
TZID:America/Juneau
BEGIN:DAYLIGHT
TZOFFSETFROM:-0900
TZOFFSETTO:-0800
TZNAME:AKDT
DTSTART:20250309T110000
END:DAYLIGHT
BEGIN:STANDARD
TZOFFSETFROM:-0800
TZOFFSETTO:-0900
TZNAME:AKST
DTSTART:20251102T100000
END:STANDARD
BEGIN:DAYLIGHT
TZOFFSETFROM:-0900
TZOFFSETTO:-0800
TZNAME:AKDT
DTSTART:20260308T110000
END:DAYLIGHT
BEGIN:STANDARD
TZOFFSETFROM:-0800
TZOFFSETTO:-0900
TZNAME:AKST
DTSTART:20261101T100000
END:STANDARD
BEGIN:DAYLIGHT
TZOFFSETFROM:-0900
TZOFFSETTO:-0800
TZNAME:AKDT
DTSTART:20270314T110000
END:DAYLIGHT
BEGIN:STANDARD
TZOFFSETFROM:-0800
TZOFFSETTO:-0900
TZNAME:AKST
DTSTART:20271107T100000
END:STANDARD
END:VTIMEZONE
BEGIN:VEVENT
DTSTART;TZID=America/Juneau:20260530T080000
DTEND;TZID=America/Juneau:20260530T100000
DTSTAMP:20260423T112503
CREATED:20260409T013717Z
LAST-MODIFIED:20260409T020453Z
UID:1752-1780128000-1780135200@www.juneauaudubon.org
SUMMARY:Outer Point\, North Douglas Bird Walk
DESCRIPTION:Free & open to the public guided bird walks.  Juneau Audubon provides binoculars! \nLocation: Outer Point\, North Douglas \nLeaders: Betsy & Scott F
URL:https://www.juneauaudubon.org/event/outer-point-north-douglas-bird-walk-may-30-2026/
LOCATION:Outer Point Loop Trail\, 14028 NF-Fh31\, Juneau\, AK\, 99801\, United States
CATEGORIES:Bird Walk
ATTACH;FMTTYPE=image/jpeg:https://www.juneauaudubon.org/wp-content/uploads/2026/04/usfws-surfbird-large.jpeg
ORGANIZER;CN="Juneau Audubon Society Field Trips":MAILTO:field-trips@juneau-audubon-society.org
END:VEVENT
END:VCALENDAR